BEGIN:VCALENDAR
VERSION:2.0
PRODID:-//VetsCAN-SCW - ECPv6.15.20//NONSGML v1.0//EN
CALSCALE:GREGORIAN
METHOD:PUBLISH
X-WR-CALNAME:VetsCAN-SCW
X-ORIGINAL-URL:https://vetscan-wi.org
X-WR-CALDESC:Events for VetsCAN-SCW
REFRESH-INTERVAL;VALUE=DURATION:PT1H
X-Robots-Tag:noindex
X-PUBLISHED-TTL:PT1H
BEGIN:VTIMEZONE
TZID:America/Chicago
BEGIN:DAYLIGHT
TZOFFSETFROM:-0600
TZOFFSETTO:-0500
TZNAME:CDT
DTSTART:20230312T080000
END:DAYLIGHT
BEGIN:STANDARD
TZOFFSETFROM:-0500
TZOFFSETTO:-0600
TZNAME:CST
DTSTART:20231105T070000
END:STANDARD
BEGIN:DAYLIGHT
TZOFFSETFROM:-0600
TZOFFSETTO:-0500
TZNAME:CDT
DTSTART:20240310T080000
END:DAYLIGHT
BEGIN:STANDARD
TZOFFSETFROM:-0500
TZOFFSETTO:-0600
TZNAME:CST
DTSTART:20241103T070000
END:STANDARD
BEGIN:DAYLIGHT
TZOFFSETFROM:-0600
TZOFFSETTO:-0500
TZNAME:CDT
DTSTART:20250309T080000
END:DAYLIGHT
BEGIN:STANDARD
TZOFFSETFROM:-0500
TZOFFSETTO:-0600
TZNAME:CST
DTSTART:20251102T070000
END:STANDARD
END:VTIMEZONE
BEGIN:VEVENT
DTSTART;TZID=America/Chicago:20240513T083000
DTEND;TZID=America/Chicago:20240513T160000
DTSTAMP:20260423T214126
CREATED:20240408T220629Z
LAST-MODIFIED:20240409T131009Z
UID:10000866-1715589000-1715616000@vetscan-wi.org
SUMMARY:Wisconsin Warrior Summit
DESCRIPTION:Wisconsin Warrior Summit Suicide Prevention Conference\n\n\n\n\n\n\n\n\nMay 13\, 2024\nUniversity of Wisconsin-Green Bay\, Green Bay\, WI \n\n\n\n\n\n\n\n\n\n\n\n\n\n\n\nThe Division of Suicide Research and Healing\, along with Mental Health America of Wisconsin\, is excited to host the 2024 Wisconsin Warrior Summit. \n\n\n\n\nThe full agenda is available here.\n\n\n\n\n\n\n\n\nRegister here.
URL:https://vetscan-wi.org/event/wisconsin-warrior-summit-2024/
LOCATION:UW – Green Bay\, University Union (Phoenix Rooms)\, 2420 Nicolet Drive\, Green Bay\, WI\, 54311\, United States
ATTACH;FMTTYPE=image/png:https://vetscan-wi.org/wp-content/uploads/2024/04/DSRHLogo_Transparent.png
END:VEVENT
END:VCALENDAR