BEGIN:VCALENDAR
VERSION:2.0
PRODID:-//VetsCAN-SCW - ECPv6.15.20//NONSGML v1.0//EN
CALSCALE:GREGORIAN
METHOD:PUBLISH
X-ORIGINAL-URL:https://vetscan-wi.org
X-WR-CALDESC:Events for VetsCAN-SCW
REFRESH-INTERVAL;VALUE=DURATION:PT1H
X-Robots-Tag:noindex
X-PUBLISHED-TTL:PT1H
BEGIN:VTIMEZONE
TZID:America/Chicago
BEGIN:DAYLIGHT
TZOFFSETFROM:-0600
TZOFFSETTO:-0500
TZNAME:CDT
DTSTART:20250309T080000
END:DAYLIGHT
BEGIN:STANDARD
TZOFFSETFROM:-0500
TZOFFSETTO:-0600
TZNAME:CST
DTSTART:20251102T070000
END:STANDARD
BEGIN:DAYLIGHT
TZOFFSETFROM:-0600
TZOFFSETTO:-0500
TZNAME:CDT
DTSTART:20260308T080000
END:DAYLIGHT
BEGIN:STANDARD
TZOFFSETFROM:-0500
TZOFFSETTO:-0600
TZNAME:CST
DTSTART:20261101T070000
END:STANDARD
BEGIN:DAYLIGHT
TZOFFSETFROM:-0600
TZOFFSETTO:-0500
TZNAME:CDT
DTSTART:20270314T080000
END:DAYLIGHT
BEGIN:STANDARD
TZOFFSETFROM:-0500
TZOFFSETTO:-0600
TZNAME:CST
DTSTART:20271107T070000
END:STANDARD
END:VTIMEZONE
BEGIN:VEVENT
DTSTART;VALUE=DATE:20260805
DTEND;VALUE=DATE:20260807
DTSTAMP:20260420T181716
CREATED:20260107T205217Z
LAST-MODIFIED:20260107T205217Z
UID:10002340-1785888000-1786060799@vetscan-wi.org
SUMMARY:Wisconsin Substance Use Summit
DESCRIPTION:Inaugural Wisconsin Substance Use Summit\nThe Division of Care and Treatment and Services and UW-Milwaukee’s Center for Innovative Transition\, Education & Employment are organizing the Wisconsin Substance Use Summit to be the premier state convening where prevention specialists\, treatment professionals\, recovery advocates\, public health leaders\, first responders\, and policymakers come together to share insights on Wisconsin’s substance use crisis and proven solutions for better health and wellness for all state residents. \nThis event combines the best of the Opioids\, Stimulants\, and Trauma Summit and Wisconsin Substance Use Prevention Conference into one comprehensive platform with unmatched access to information\, resources\, and networking. \nContinuing education credits will be available. \nCLICK HERE FOR SUMMIT WEBSITE
URL:https://vetscan-wi.org/event/wisconsin-substance-use-summit-2026/
LOCATION:Oneida Hotel\, Green Bay\, WI\, United States
ATTACH;FMTTYPE=image/png:https://vetscan-wi.org/wp-content/uploads/2023/10/DHS-Logo-752x423-1.png
END:VEVENT
END:VCALENDAR