BEGIN:VCALENDAR
VERSION:2.0
PRODID:-//VetsCAN-SCW - ECPv6.15.20//NONSGML v1.0//EN
CALSCALE:GREGORIAN
METHOD:PUBLISH
X-ORIGINAL-URL:https://vetscan-wi.org
X-WR-CALDESC:Events for VetsCAN-SCW
REFRESH-INTERVAL;VALUE=DURATION:PT1H
X-Robots-Tag:noindex
X-PUBLISHED-TTL:PT1H
BEGIN:VTIMEZONE
TZID:America/Chicago
BEGIN:DAYLIGHT
TZOFFSETFROM:-0600
TZOFFSETTO:-0500
TZNAME:CDT
DTSTART:20240310T080000
END:DAYLIGHT
BEGIN:STANDARD
TZOFFSETFROM:-0500
TZOFFSETTO:-0600
TZNAME:CST
DTSTART:20241103T070000
END:STANDARD
BEGIN:DAYLIGHT
TZOFFSETFROM:-0600
TZOFFSETTO:-0500
TZNAME:CDT
DTSTART:20250309T080000
END:DAYLIGHT
BEGIN:STANDARD
TZOFFSETFROM:-0500
TZOFFSETTO:-0600
TZNAME:CST
DTSTART:20251102T070000
END:STANDARD
BEGIN:DAYLIGHT
TZOFFSETFROM:-0600
TZOFFSETTO:-0500
TZNAME:CDT
DTSTART:20260308T080000
END:DAYLIGHT
BEGIN:STANDARD
TZOFFSETFROM:-0500
TZOFFSETTO:-0600
TZNAME:CST
DTSTART:20261101T070000
END:STANDARD
END:VTIMEZONE
BEGIN:VEVENT
DTSTART;TZID=America/Chicago:20250422T100000
DTEND;TZID=America/Chicago:20250422T140000
DTSTAMP:20260425T121518
CREATED:20250418T153047Z
LAST-MODIFIED:20250418T153047Z
UID:10000008-1745316000-1745330400@vetscan-wi.org
SUMMARY:Veterans Day at the Capitol
DESCRIPTION:Veterans Day at the State Capitol\nSponsored by the American Legion\, Veterans of Foreign Wars (VFW)\, and Disabled American Veterans (DAV) of Wisconsin. \nOn April 22\, 2025\, Veterans and their supporters from all over Wisconsin will assemble at the Monona Terrace\, 1 John Nolan Drive in Madison. (Free Parking) \nSchedule: \nRegistration at 9:00 AM \n10:00-11:30 AM program and lunch. (Lunch will be provided to those registered before 4/14/25.) \n11:30 AM Walk to the capitol \n12:00 PM-1:00 PM Rally at the Rotunda \n1:00 PM Meet with Legislators \nAfter the rally\, attendees will meet with their representatives to present Legislative Priorities\, that include: \n\nEligibility Expansion of the Wisconsin Veterans and Surviving Spouses Property Tax Credit\nFunding for the University of Wisconsin (UW) MIA Recovery and Identification Project to repatriate Wisconsin missing-in-action (MIA) servicemembers.\n\nEnactment of these important provisions will bring financial tax relief to qualified Wisconsin’s disabled veterans\, many of whom live on limited resources\, and a degree of hope to Wisconsin’s grieving MIA families who have suffered for years\, in some cases for decades. \nYour involvement is essential in bringing these long-delayed priorities into enactment. \nNote: One of the questions in the registration is what is your Legislative District? If you are unsure which legislative district you are in go to https://legis.wisconsin.gov/ and put your address in the box under ‘Who are my Legislators?’. If you are still unsure\, simply put ‘not sure’ for this question. \nCLICK HERE TO REGISTER! \nFOR MORE INFORMATION\, contact Angie Chappell\, Administrative Manager/Major Event Planner\, angie@wilegion.org or 608-745-0340. \nDisclaimer: Information about this event is provided as a service and does not constitute an endorsement for or against the legislation referenced.
URL:https://vetscan-wi.org/event/veterans-day-at-the-capital-4-22-2025/
LOCATION:Monona Terrace\, 1 John Nolan Drive\, Madison\, WI\, 53703\, United States
ATTACH;FMTTYPE=image/avif:https://vetscan-wi.org/wp-content/uploads/2025/04/https___cdn.evbuc_.com_images_966440793_77199623881_1_original.avif
END:VEVENT
END:VCALENDAR