BEGIN:VCALENDAR
VERSION:2.0
PRODID:-//VetsCAN-SCW - ECPv6.15.20//NONSGML v1.0//EN
CALSCALE:GREGORIAN
METHOD:PUBLISH
X-ORIGINAL-URL:https://vetscan-wi.org
X-WR-CALDESC:Events for VetsCAN-SCW
REFRESH-INTERVAL;VALUE=DURATION:PT1H
X-Robots-Tag:noindex
X-PUBLISHED-TTL:PT1H
BEGIN:VTIMEZONE
TZID:America/Chicago
BEGIN:DAYLIGHT
TZOFFSETFROM:-0600
TZOFFSETTO:-0500
TZNAME:CDT
DTSTART:20240310T080000
END:DAYLIGHT
BEGIN:STANDARD
TZOFFSETFROM:-0500
TZOFFSETTO:-0600
TZNAME:CST
DTSTART:20241103T070000
END:STANDARD
BEGIN:DAYLIGHT
TZOFFSETFROM:-0600
TZOFFSETTO:-0500
TZNAME:CDT
DTSTART:20250309T080000
END:DAYLIGHT
BEGIN:STANDARD
TZOFFSETFROM:-0500
TZOFFSETTO:-0600
TZNAME:CST
DTSTART:20251102T070000
END:STANDARD
BEGIN:DAYLIGHT
TZOFFSETFROM:-0600
TZOFFSETTO:-0500
TZNAME:CDT
DTSTART:20260308T080000
END:DAYLIGHT
BEGIN:STANDARD
TZOFFSETFROM:-0500
TZOFFSETTO:-0600
TZNAME:CST
DTSTART:20261101T070000
END:STANDARD
END:VTIMEZONE
BEGIN:VEVENT
DTSTART;TZID=America/Chicago:20250824T104500
DTEND;TZID=America/Chicago:20250824T150000
DTSTAMP:20260419T101051
CREATED:20250811T214214Z
LAST-MODIFIED:20250811T214214Z
UID:10002324-1756032300-1756047600@vetscan-wi.org
SUMMARY:Golfing With The (Team RWB) Eagles
DESCRIPTION:Team RWB Madison – Golfing With The Eagles 9-Hole Outing\nNine holes of golf (walking or cart) will be provided by Team RWB at the Monona Golf Course. \nTeam RWB Madison is hosting a fun 9-hole golf outing\, followed by an outdoor social. There will be fun golf games\, prizes\, and camaraderie. \nRSVP by August 16th. \nCLICK HERE TO VIEW THE EVENT FLYER \nHave questions? Want to RESERVE YOUR SPOT? Contact Jess.Starks@teamrwb.org or 608-575-0398.
URL:https://vetscan-wi.org/event/golfing-with-the-eagles-8-24-2025/
LOCATION:Monona Golf Course\, 111 E. Dean Avenue\, Monona\, WI\, United States
ATTACH;FMTTYPE=image/png:https://vetscan-wi.org/wp-content/uploads/2025/08/Screenshot-2025-08-11-at-4.34.42-PM.png
ORGANIZER;CN="Team RWB":MAILTO:jess.starks@teamrwb.org
END:VEVENT
END:VCALENDAR