BEGIN:VCALENDAR
VERSION:2.0
PRODID:-//VetsCAN-SCW - ECPv6.15.20//NONSGML v1.0//EN
CALSCALE:GREGORIAN
METHOD:PUBLISH
X-ORIGINAL-URL:https://vetscan-wi.org
X-WR-CALDESC:Events for VetsCAN-SCW
REFRESH-INTERVAL;VALUE=DURATION:PT1H
X-Robots-Tag:noindex
X-PUBLISHED-TTL:PT1H
BEGIN:VTIMEZONE
TZID:America/Chicago
BEGIN:DAYLIGHT
TZOFFSETFROM:-0600
TZOFFSETTO:-0500
TZNAME:CDT
DTSTART:20240310T080000
END:DAYLIGHT
BEGIN:STANDARD
TZOFFSETFROM:-0500
TZOFFSETTO:-0600
TZNAME:CST
DTSTART:20241103T070000
END:STANDARD
BEGIN:DAYLIGHT
TZOFFSETFROM:-0600
TZOFFSETTO:-0500
TZNAME:CDT
DTSTART:20250309T080000
END:DAYLIGHT
BEGIN:STANDARD
TZOFFSETFROM:-0500
TZOFFSETTO:-0600
TZNAME:CST
DTSTART:20251102T070000
END:STANDARD
BEGIN:DAYLIGHT
TZOFFSETFROM:-0600
TZOFFSETTO:-0500
TZNAME:CDT
DTSTART:20260308T080000
END:DAYLIGHT
BEGIN:STANDARD
TZOFFSETFROM:-0500
TZOFFSETTO:-0600
TZNAME:CST
DTSTART:20261101T070000
END:STANDARD
END:VTIMEZONE
BEGIN:VEVENT
DTSTART;TZID=America/Chicago:20250520T110000
DTEND;TZID=America/Chicago:20250520T120000
DTSTAMP:20260425T174728
CREATED:20250501T174544Z
LAST-MODIFIED:20250501T174544Z
UID:10000907-1747738800-1747742400@vetscan-wi.org
SUMMARY:Faith Leader Military Awareness & Support Training (Virtual)
DESCRIPTION:Stand Down Madison Main Event\nActive-duty service members\, veterans and military families across the nation are members of all religious faiths and look to their civilian faith leaders for guidance and support. With greater understanding\, faith communities can better support military members and their families.  In collaboration with the VA\, Cohen Veterans Network is hosting a live\, online training for faith leaders. This is a chance to learn practical ways you can make your faith community a place of welcome and support for our military community. Please take the time to give back to those who have given so much to us. \n  \nCLICK HERE TO LEARN MORE & REGISTER
URL:https://vetscan-wi.org/event/faith-leader-military-awareness-training-5-20-2025/
LOCATION:Cohen Veterans Network
ATTACH;FMTTYPE=image/png:https://vetscan-wi.org/wp-content/uploads/2025/05/Screenshot-2025-05-01-at-12.44.18 PM.png
END:VEVENT
END:VCALENDAR