BEGIN:VCALENDAR
VERSION:2.0
PRODID:-//VetsCAN-SCW - ECPv6.15.20//NONSGML v1.0//EN
CALSCALE:GREGORIAN
METHOD:PUBLISH
X-ORIGINAL-URL:https://vetscan-wi.org
X-WR-CALDESC:Events for VetsCAN-SCW
REFRESH-INTERVAL;VALUE=DURATION:PT1H
X-Robots-Tag:noindex
X-PUBLISHED-TTL:PT1H
BEGIN:VTIMEZONE
TZID:America/Chicago
BEGIN:DAYLIGHT
TZOFFSETFROM:-0600
TZOFFSETTO:-0500
TZNAME:CDT
DTSTART:20240310T080000
END:DAYLIGHT
BEGIN:STANDARD
TZOFFSETFROM:-0500
TZOFFSETTO:-0600
TZNAME:CST
DTSTART:20241103T070000
END:STANDARD
BEGIN:DAYLIGHT
TZOFFSETFROM:-0600
TZOFFSETTO:-0500
TZNAME:CDT
DTSTART:20250309T080000
END:DAYLIGHT
BEGIN:STANDARD
TZOFFSETFROM:-0500
TZOFFSETTO:-0600
TZNAME:CST
DTSTART:20251102T070000
END:STANDARD
BEGIN:DAYLIGHT
TZOFFSETFROM:-0600
TZOFFSETTO:-0500
TZNAME:CDT
DTSTART:20260308T080000
END:DAYLIGHT
BEGIN:STANDARD
TZOFFSETFROM:-0500
TZOFFSETTO:-0600
TZNAME:CST
DTSTART:20261101T070000
END:STANDARD
END:VTIMEZONE
BEGIN:VEVENT
DTSTART;TZID=America/Chicago:20251025T080000
DTEND;TZID=America/Chicago:20251025T120000
DTSTAMP:20260423T100900
CREATED:20250422T223838Z
LAST-MODIFIED:20250422T223838Z
UID:10000009-1761379200-1761393600@vetscan-wi.org
SUMMARY:Veterans Stand Down (Madison)
DESCRIPTION:Stand Down Madison Main Event\nThe mission of the Wayne D. Horner Memorial Stand Down is to link community partners offering a wide variety of essential services by providing ‘a hand-up not a hand-out’ to veterans experiencing\, or at risk of homelessness. \nCLICK HERE TO LEARN MORE
URL:https://vetscan-wi.org/event/veterans-stand-down-madison-10-25-2025/
LOCATION:Madison Salvation Army\, 3030 Darbo Drive\, Madison\, WI\, 53714\, United States
ATTACH;FMTTYPE=image/png:https://vetscan-wi.org/wp-content/uploads/2025/04/Screenshot-2025-04-22-at-5.36.59 PM.png
ORGANIZER;CN="Wayne D. Horner Memorial Stand Down":MAILTO:president@standdownmadison.org
END:VEVENT
BEGIN:VEVENT
DTSTART;TZID=America/Chicago:20250725T173000
DTEND;TZID=America/Chicago:20250725T220000
DTSTAMP:20260423T100900
CREATED:20250618T191134Z
LAST-MODIFIED:20250618T191134Z
UID:10002322-1753464600-1753480800@vetscan-wi.org
SUMMARY:A Night at the Duck Pond
DESCRIPTION:Veterans & Military Appreciation: Madison Mallards vs. Fond du Lac Dock Spiders\nJoin other Veterans at the local home of America’s pastime. Tickets only $5! Use promo code MILITARY25 at checkout. Enjoy pre-game military recognition and Veteran resource fair. \nGame time is 6:35 PM. Gates open at 5:35 PM. See you at the Duck Pond!
URL:https://vetscan-wi.org/event/military-appreciation-at-the-duck-pond/
LOCATION:Madison Salvation Army\, 3030 Darbo Drive\, Madison\, WI\, 53714\, United States
ATTACH;FMTTYPE=image/png:https://vetscan-wi.org/wp-content/uploads/2025/06/Screenshot-2025-06-18-at-1.48.38 PM.png
ORGANIZER;CN="Wayne D. Horner Memorial Stand Down":MAILTO:president@standdownmadison.org
END:VEVENT
END:VCALENDAR