BEGIN:VCALENDAR
VERSION:2.0
PRODID:-//VetsCAN-SCW - ECPv6.15.20//NONSGML v1.0//EN
CALSCALE:GREGORIAN
METHOD:PUBLISH
X-WR-CALNAME:VetsCAN-SCW
X-ORIGINAL-URL:https://vetscan-wi.org
X-WR-CALDESC:Events for VetsCAN-SCW
REFRESH-INTERVAL;VALUE=DURATION:PT1H
X-Robots-Tag:noindex
X-PUBLISHED-TTL:PT1H
BEGIN:VTIMEZONE
TZID:America/Chicago
BEGIN:DAYLIGHT
TZOFFSETFROM:-0600
TZOFFSETTO:-0500
TZNAME:CDT
DTSTART:20250309T080000
END:DAYLIGHT
BEGIN:STANDARD
TZOFFSETFROM:-0500
TZOFFSETTO:-0600
TZNAME:CST
DTSTART:20251102T070000
END:STANDARD
BEGIN:DAYLIGHT
TZOFFSETFROM:-0600
TZOFFSETTO:-0500
TZNAME:CDT
DTSTART:20260308T080000
END:DAYLIGHT
BEGIN:STANDARD
TZOFFSETFROM:-0500
TZOFFSETTO:-0600
TZNAME:CST
DTSTART:20261101T070000
END:STANDARD
BEGIN:DAYLIGHT
TZOFFSETFROM:-0600
TZOFFSETTO:-0500
TZNAME:CDT
DTSTART:20270314T080000
END:DAYLIGHT
BEGIN:STANDARD
TZOFFSETFROM:-0500
TZOFFSETTO:-0600
TZNAME:CST
DTSTART:20271107T070000
END:STANDARD
END:VTIMEZONE
BEGIN:VEVENT
DTSTART;TZID=America/Chicago:20260502T083000
DTEND;TZID=America/Chicago:20260502T120000
DTSTAMP:20260420T074349
CREATED:20260419T212023Z
LAST-MODIFIED:20260419T213647Z
UID:10002356-1777710600-1777723200@vetscan-wi.org
SUMMARY:Highway Cleanup with The VFW
DESCRIPTION:Highway Cleanup – Cottage Grove Road (Hwy BB)\nDetails: \nMeeting Point: VFW 7591 at 8:30 AM – start with coffee and donuts\, then we’ll grab our gear and carpool to the highway cleanup location. \nParking: Park at the Cemetery (we may have additional parking\, that is still TBD). \nWhat to Bring: Grabber tools and gloves if you have them. \nSafety: We’ll have vests and flags to ensure visibility\, also bags and some gloves will be provided. \nPost-Cleanup Gathering: Join us at VFW 7591 for food and drinks afterward! \nCLICK HERE FOR EVENT FLYER
URL:https://vetscan-wi.org/event/highway-cleanup-5-2-2026/
LOCATION:VFW Post 7591\, 301 Cottage Grove Rd\, Madison\, WI\, 53716
ATTACH;FMTTYPE=image/png:https://vetscan-wi.org/wp-content/uploads/2026/04/VFWLogo.png
END:VEVENT
END:VCALENDAR