BEGIN:VCALENDAR
VERSION:2.0
PRODID:-//VetsCAN-SCW - ECPv6.15.20//NONSGML v1.0//EN
CALSCALE:GREGORIAN
METHOD:PUBLISH
X-ORIGINAL-URL:https://vetscan-wi.org
X-WR-CALDESC:Events for VetsCAN-SCW
REFRESH-INTERVAL;VALUE=DURATION:PT1H
X-Robots-Tag:noindex
X-PUBLISHED-TTL:PT1H
BEGIN:VTIMEZONE
TZID:America/Chicago
BEGIN:DAYLIGHT
TZOFFSETFROM:-0600
TZOFFSETTO:-0500
TZNAME:CDT
DTSTART:20250309T080000
END:DAYLIGHT
BEGIN:STANDARD
TZOFFSETFROM:-0500
TZOFFSETTO:-0600
TZNAME:CST
DTSTART:20251102T070000
END:STANDARD
BEGIN:DAYLIGHT
TZOFFSETFROM:-0600
TZOFFSETTO:-0500
TZNAME:CDT
DTSTART:20260308T080000
END:DAYLIGHT
BEGIN:STANDARD
TZOFFSETFROM:-0500
TZOFFSETTO:-0600
TZNAME:CST
DTSTART:20261101T070000
END:STANDARD
BEGIN:DAYLIGHT
TZOFFSETFROM:-0600
TZOFFSETTO:-0500
TZNAME:CDT
DTSTART:20270314T080000
END:DAYLIGHT
BEGIN:STANDARD
TZOFFSETFROM:-0500
TZOFFSETTO:-0600
TZNAME:CST
DTSTART:20271107T070000
END:STANDARD
END:VTIMEZONE
BEGIN:VEVENT
DTSTART;TZID=America/Chicago:20260521T150000
DTEND;TZID=America/Chicago:20260521T163000
DTSTAMP:20260420T001953
CREATED:20260401T151240Z
LAST-MODIFIED:20260401T152729Z
UID:10002350-1779375600-1779381000@vetscan-wi.org
SUMMARY:VetsCAN Engagement Forum (Online)
DESCRIPTION:FOCUS TOPIC: OBJECTIVE: Veterans Smile\nCLICK HERE FOR AGENDA and ZOON CONNECTION INFO \nJoin us on May 21 at 3 p.m. for this virtual Community Engagement Forum presented by VetsCAN. \nOur guest will be Kyle Arneson\, Founder of OBJECTIVE: Veterans Smile. \nLearn how OBJECTIVE: Veterans Smile is improving the lives of Veterans by providing dental care. After receiving the world’s best dental care while on active duty\, most Veterans do not qualify for dental care through the VA. As a result\, many Veterans suffer from poor oral hygiene\, which can cause systemic disease\, a lack of self-esteem\, and force many to retire from society. \nKyle Arneson is an entrepreneur and philanthropist for veterans’ causes. A decorated United States Marine Corps Veteran\, Kyle has held numerous leadership positions within the financial services industry such as private banking\, wealth advisory\, capital funding\, and corporate debt restructuring over the last 30 years. He is the founder of World Leadership Partners\, a business coaching and consulting practice that engages exclusively with entrepreneurs\, business owners\, corporate clients and philanthropic organizations. The practice is accredited by Dr. John C. Maxwell\, the world’s foremost authority on leadership and growth\, and The John Maxwell Team\, allowing him to pour into clients via an incredible intellectual property reservoir. \nKyle continues to actively support programs that empower and enrich the lives of our veterans. In addition to founding Objective: Veterans’ Smile\, Kyle is also a co-founder of The Chicago Marines Foundation. He has worked on multi-million-dollar fundraising campaigns for veterans and their families at RUSH University Medical Center and The Lone Survivor Foundation. \n \nPlease join us May 21 at 3 p.m. to learn more! \nCLICK for ZOOM CONNECTION INFO and AGENDA. \n 
URL:https://vetscan-wi.org/event/vetscan-engagement-forum-5-21-2026/
LOCATION:Online Event
CATEGORIES:Engagement Forum
ATTACH;FMTTYPE=image/png:https://vetscan-wi.org/wp-content/uploads/2023/09/Screenshot-2024-01-25-at-2.23.04-PM.png
ORGANIZER;CN="VetsCAN":MAILTO:info@vetscan-wi.org
END:VEVENT
BEGIN:VEVENT
DTSTART;TZID=America/Chicago:20260618T150000
DTEND;TZID=America/Chicago:20260618T163000
DTSTAMP:20260420T001953
CREATED:20260401T154142Z
LAST-MODIFIED:20260401T154142Z
UID:10002351-1781794800-1781800200@vetscan-wi.org
SUMMARY:VetsCAN Engagement Forum (Online)
DESCRIPTION:FOCUS TOPIC: Standing Down to Lift Up Veterans\nCLICK HERE FOR AGENDA and ZOON CONNECTION INFO \nJoin us on June 18 at 3 p.m. for this virtual Community Engagement Forum presented by VetsCAN. \nOur guest will be Angie Nickels\, President of the Wayne D. Horner Memorial Stand Down. \nThe mission of the Wayne D. Horner Memorial Stand Down is to link community partners offering a wide variety of essential services by providing ‘a hand-up not a hand-out’ to veterans experiencing\, or at risk of homelessness. The Wayne D. Horner Memorial Veterans Stand Down will invite our veterans experiencing homelessness to a daylong event on October 17\, 2026. Veterans will be welcome from Dane\, Columbia\, Dodge\, Jefferson\, Rock\, Green\, Iowa\, and Sauk Counties. Stand Down seeks to reach all veterans experiencing homelessness in the Madison community\, no matter the duration served or circumstances of discharge. This event relies on hundreds of volunteers and preparation throughout the year. \n \nPlease join us June 18 at 3 p.m. to learn more! \nCLICK for ZOOM CONNECTION INFO and AGENDA. \n 
URL:https://vetscan-wi.org/event/vetscan-engagement-forum-6-18-2026/
LOCATION:Online Event
CATEGORIES:Engagement Forum
ATTACH;FMTTYPE=image/png:https://vetscan-wi.org/wp-content/uploads/2023/09/Screenshot-2024-01-25-at-2.23.04-PM.png
ORGANIZER;CN="VetsCAN":MAILTO:info@vetscan-wi.org
END:VEVENT
END:VCALENDAR