BEGIN:VCALENDAR
VERSION:2.0
PRODID:-//VetsCAN-SCW - ECPv6.15.20//NONSGML v1.0//EN
CALSCALE:GREGORIAN
METHOD:PUBLISH
X-WR-CALNAME:VetsCAN-SCW
X-ORIGINAL-URL:https://vetscan-wi.org
X-WR-CALDESC:Events for VetsCAN-SCW
REFRESH-INTERVAL;VALUE=DURATION:PT1H
X-Robots-Tag:noindex
X-PUBLISHED-TTL:PT1H
BEGIN:VTIMEZONE
TZID:America/Chicago
BEGIN:DAYLIGHT
TZOFFSETFROM:-0600
TZOFFSETTO:-0500
TZNAME:CDT
DTSTART:20240310T080000
END:DAYLIGHT
BEGIN:STANDARD
TZOFFSETFROM:-0500
TZOFFSETTO:-0600
TZNAME:CST
DTSTART:20241103T070000
END:STANDARD
BEGIN:DAYLIGHT
TZOFFSETFROM:-0600
TZOFFSETTO:-0500
TZNAME:CDT
DTSTART:20250309T080000
END:DAYLIGHT
BEGIN:STANDARD
TZOFFSETFROM:-0500
TZOFFSETTO:-0600
TZNAME:CST
DTSTART:20251102T070000
END:STANDARD
BEGIN:DAYLIGHT
TZOFFSETFROM:-0600
TZOFFSETTO:-0500
TZNAME:CDT
DTSTART:20260308T080000
END:DAYLIGHT
BEGIN:STANDARD
TZOFFSETFROM:-0500
TZOFFSETTO:-0600
TZNAME:CST
DTSTART:20261101T070000
END:STANDARD
END:VTIMEZONE
BEGIN:VEVENT
DTSTART;TZID=America/Chicago:20250605T090000
DTEND;TZID=America/Chicago:20250605T180000
DTSTAMP:20260425T193040
CREATED:20250324T193207Z
LAST-MODIFIED:20250515T000603Z
UID:10000005-1749114000-1749146400@vetscan-wi.org
SUMMARY:Veterans Care Trust Golf Outing Fundraiser (Wisconsin Dells/Trappers Turn)
DESCRIPTION:Wings Over the Fairway – Veterans Care Trust Golf Outing\nThe Veterans Care Trust Fund is dedicated to addressing the unique needs of our rural Wisconsin veterans\, active military personnel\, and their families. We aim to fill the gaps in overlooked services and resources. \nThe Veterans Care Trust Fund\, founded in 1988\, is a testament to unwavering support for veterans and their families. The journey of our veterans is fraught with challenges. These may include economic hardships\, trauma\, mental health conditions\, and social isolation\, all of which increase the risk of housing instability and homelessness. Despite substantial federal investments in research and data collection\, rural communities like ours often lack the necessary funding to support veterans at the community level. Our fund is a crucial GAP filler\, addressing these pressing local needs. \nCLICK HERE TO REGISTER BY May 18! \nFOR MORE INFORMATION\, write to veteranscaretrustfund@gmail.com.
URL:https://vetscan-wi.org/event/wings-over-the-fairway-6-5-2025/
LOCATION:Trappers Turn Golf Course\, 2955 Wisconsin Dells Pkwy\, Wisconsin Dells\, 53965\, United States
ATTACH;FMTTYPE=image/png:https://vetscan-wi.org/wp-content/uploads/2025/03/Screenshot-2025-03-24-at-2.22.49 PM.png
ORGANIZER;CN="Veterans Care Trust Fund":MAILTO:veteranscaretrustfund@gmail.com
END:VEVENT
END:VCALENDAR