BEGIN:VCALENDAR
VERSION:2.0
PRODID:-//VetsCAN-SCW - ECPv6.15.20//NONSGML v1.0//EN
CALSCALE:GREGORIAN
METHOD:PUBLISH
X-ORIGINAL-URL:https://vetscan-wi.org
X-WR-CALDESC:Events for VetsCAN-SCW
REFRESH-INTERVAL;VALUE=DURATION:PT1H
X-Robots-Tag:noindex
X-PUBLISHED-TTL:PT1H
BEGIN:VTIMEZONE
TZID:America/Chicago
BEGIN:DAYLIGHT
TZOFFSETFROM:-0600
TZOFFSETTO:-0500
TZNAME:CDT
DTSTART:20240310T080000
END:DAYLIGHT
BEGIN:STANDARD
TZOFFSETFROM:-0500
TZOFFSETTO:-0600
TZNAME:CST
DTSTART:20241103T070000
END:STANDARD
BEGIN:DAYLIGHT
TZOFFSETFROM:-0600
TZOFFSETTO:-0500
TZNAME:CDT
DTSTART:20250309T080000
END:DAYLIGHT
BEGIN:STANDARD
TZOFFSETFROM:-0500
TZOFFSETTO:-0600
TZNAME:CST
DTSTART:20251102T070000
END:STANDARD
BEGIN:DAYLIGHT
TZOFFSETFROM:-0600
TZOFFSETTO:-0500
TZNAME:CDT
DTSTART:20260308T080000
END:DAYLIGHT
BEGIN:STANDARD
TZOFFSETFROM:-0500
TZOFFSETTO:-0600
TZNAME:CST
DTSTART:20261101T070000
END:STANDARD
END:VTIMEZONE
BEGIN:VEVENT
DTSTART;TZID=America/Chicago:20250823T150000
DTEND;TZID=America/Chicago:20250823T210000
DTSTAMP:20260423T064826
CREATED:20250606T162620Z
LAST-MODIFIED:20250606T170011Z
UID:10000014-1755961200-1755982800@vetscan-wi.org
SUMMARY:Stand Down Madison Dart Tournament Fundraiser
DESCRIPTION:Throw Darts\, Raise Hope – BARmuda Triangle Fundraiser Dart Tournament\nA triple-bar showdown benefiting Stand Down Madison and local veterans experiencing homelessness.  There’ll be darts\, food\, raffles\, and big-hearted competition—all in support of those who served. \nSign-up starts at 3:00.  Tournament begins at 4:00. \n\nWinners Bracket stays at Thirsty Beaver\nLosers Bracket\, Auctions & Raffles head to Just One Pub – 165 E Main St\nFinal Rounds at Champ’s Bar – 123 S Walnut St\n\nLearn more or donate at www.StandDownMadison.org
URL:https://vetscan-wi.org/event/stand-down-madison-dart-tournament-fundraiser/
LOCATION:Thirsty Beaver Sports Bar\, 148 S. Walnut Street\, Reedsburg\, Wisconsin
CATEGORIES:Fundraiser
ATTACH;FMTTYPE=image/png:https://vetscan-wi.org/wp-content/uploads/2025/04/Screenshot-2025-04-22-at-5.36.59 PM.png
END:VEVENT
END:VCALENDAR