BEGIN:VCALENDAR
VERSION:2.0
PRODID:-//VetsCAN-SCW - ECPv6.15.20//NONSGML v1.0//EN
CALSCALE:GREGORIAN
METHOD:PUBLISH
X-WR-CALNAME:VetsCAN-SCW
X-ORIGINAL-URL:https://vetscan-wi.org
X-WR-CALDESC:Events for VetsCAN-SCW
REFRESH-INTERVAL;VALUE=DURATION:PT1H
X-Robots-Tag:noindex
X-PUBLISHED-TTL:PT1H
BEGIN:VTIMEZONE
TZID:America/Chicago
BEGIN:DAYLIGHT
TZOFFSETFROM:-0600
TZOFFSETTO:-0500
TZNAME:CDT
DTSTART:20240310T080000
END:DAYLIGHT
BEGIN:STANDARD
TZOFFSETFROM:-0500
TZOFFSETTO:-0600
TZNAME:CST
DTSTART:20241103T070000
END:STANDARD
BEGIN:DAYLIGHT
TZOFFSETFROM:-0600
TZOFFSETTO:-0500
TZNAME:CDT
DTSTART:20250309T080000
END:DAYLIGHT
BEGIN:STANDARD
TZOFFSETFROM:-0500
TZOFFSETTO:-0600
TZNAME:CST
DTSTART:20251102T070000
END:STANDARD
BEGIN:DAYLIGHT
TZOFFSETFROM:-0600
TZOFFSETTO:-0500
TZNAME:CDT
DTSTART:20260308T080000
END:DAYLIGHT
BEGIN:STANDARD
TZOFFSETFROM:-0500
TZOFFSETTO:-0600
TZNAME:CST
DTSTART:20261101T070000
END:STANDARD
END:VTIMEZONE
BEGIN:VEVENT
DTSTART;TZID=America/Chicago:20250515T130000
DTEND;TZID=America/Chicago:20250515T140000
DTSTAMP:20260425T124501
CREATED:20250423T170044Z
LAST-MODIFIED:20250423T170044Z
UID:10000010-1747314000-1747317600@vetscan-wi.org
SUMMARY:VA Support for Survivors (Online)
DESCRIPTION:VA Support for Survivors\nThe Red Cross Military and Veteran Caregiver Network invites you to a special presentation featuring the Department of Veterans Affairs Survivors Assistance and Memorial Support (SAMS) Program\, the Office of Survivors Assistance\, Veterans Benefits Administration and the National Cemetery Administration. \nThis presentation will provide a comprehensive overview of the services offered by each program and share valuable resources to support the caregiver to survivor experience. \nCLICK HERE TO LEARN MORE
URL:https://vetscan-wi.org/event/va-support-for-survivors-5-15-2025/
LOCATION:Online Event
ATTACH;FMTTYPE=image/png:https://vetscan-wi.org/wp-content/uploads/2025/04/Screenshot-2025-04-23-at-11.56.43 AM.png
END:VEVENT
END:VCALENDAR