BEGIN:VCALENDAR
VERSION:2.0
PRODID:-//VetsCAN-SCW - ECPv6.15.20//NONSGML v1.0//EN
CALSCALE:GREGORIAN
METHOD:PUBLISH
X-WR-CALNAME:VetsCAN-SCW
X-ORIGINAL-URL:https://vetscan-wi.org
X-WR-CALDESC:Events for VetsCAN-SCW
REFRESH-INTERVAL;VALUE=DURATION:PT1H
X-Robots-Tag:noindex
X-PUBLISHED-TTL:PT1H
BEGIN:VTIMEZONE
TZID:America/Chicago
BEGIN:DAYLIGHT
TZOFFSETFROM:-0600
TZOFFSETTO:-0500
TZNAME:CDT
DTSTART:20230312T080000
END:DAYLIGHT
BEGIN:STANDARD
TZOFFSETFROM:-0500
TZOFFSETTO:-0600
TZNAME:CST
DTSTART:20231105T070000
END:STANDARD
BEGIN:DAYLIGHT
TZOFFSETFROM:-0600
TZOFFSETTO:-0500
TZNAME:CDT
DTSTART:20240310T080000
END:DAYLIGHT
BEGIN:STANDARD
TZOFFSETFROM:-0500
TZOFFSETTO:-0600
TZNAME:CST
DTSTART:20241103T070000
END:STANDARD
BEGIN:DAYLIGHT
TZOFFSETFROM:-0600
TZOFFSETTO:-0500
TZNAME:CDT
DTSTART:20250309T080000
END:DAYLIGHT
BEGIN:STANDARD
TZOFFSETFROM:-0500
TZOFFSETTO:-0600
TZNAME:CST
DTSTART:20251102T070000
END:STANDARD
BEGIN:DAYLIGHT
TZOFFSETFROM:-0600
TZOFFSETTO:-0500
TZNAME:CDT
DTSTART:20260308T080000
END:DAYLIGHT
BEGIN:STANDARD
TZOFFSETFROM:-0500
TZOFFSETTO:-0600
TZNAME:CST
DTSTART:20261101T070000
END:STANDARD
END:VTIMEZONE
BEGIN:VEVENT
DTSTART;TZID=America/Chicago:20250814T130000
DTEND;TZID=America/Chicago:20250814T150000
DTSTAMP:20260423T053007
CREATED:20250618T184554Z
LAST-MODIFIED:20250618T184554Z
UID:10000290-1755176400-1755183600@vetscan-wi.org
SUMMARY:"Honor In the Air" Documentary Movie Screening
DESCRIPTION:Movie Screening: Thursday\, August 14\, 2025\n1 p.m. to 3 p.m. \nMadison VA Hospital Auditorium \nJoin this screening of Honor In the Air\, a documentary from award-winning Director Susan Reetz\, that tells the story of Captain Scott Alwin and the heroic men from the Army’s 68th Assault Helicopter Company during the Vietnam War. Captain Alwin earned an unprecedented 136 Air Medals\, Distinguished Flying Crosses and many other medals and awards. But more than that\, he is an example of integrity\, dedication\, and honor. \nLearn more about Captain Alwin and those he served with at HonorInTheAir.com or facebook.com/honorintheair.
URL:https://vetscan-wi.org/event/honor-in-the-air-documentary-movie-screening/
LOCATION:Madison VA Hospital\, 2500 Overlook Terrace\, Madison\, Wisconsin\, 53705
CATEGORIES:Education
ATTACH;FMTTYPE=image/png:https://vetscan-wi.org/wp-content/uploads/2025/06/Screenshot-2025-06-18-at-1.44.28 PM.png
END:VEVENT
BEGIN:VEVENT
DTSTART;TZID=America/Chicago:20240322T160000
DTEND;TZID=America/Chicago:20240322T180000
DTSTAMP:20260423T053007
CREATED:20240223T161642Z
LAST-MODIFIED:20240223T161642Z
UID:10000904-1711123200-1711130400@vetscan-wi.org
SUMMARY:"Honor In the Air" Documentary Movie Screening
DESCRIPTION:Movie Screening: Friday\, March 22\, 2024\n4 p.m. to 6 p.m. \nMadison VA Hospital Auditorium \nJoin this screening of Honor In the Air\, a documentary from award-winning Director Susan Reetz\, that tells the story of Captain Scott Alwin and the heroic men from the Army’s 68th Assault Helicopter Company during the Vietnam War. Captain Alwin earned an unprecedented 136 Air Medals\, Distinguished Flying Crosses and many other medals and awards. But more than that\, he is an example of integrity\, dedication\, and honor. \nLearn more about Captain Alwin and those he served with at HonorInTheAir.com or facebook.com/honorintheair.
URL:https://vetscan-wi.org/event/honor-in-the-air/
LOCATION:Madison VA Hospital\, 2500 Overlook Terrace\, Madison\, Wisconsin\, 53705
CATEGORIES:Education
ATTACH;FMTTYPE=image/jpeg:https://vetscan-wi.org/wp-content/uploads/2024/02/93C6B26D-0197-4C1D-AD81-FE7B51682FE8.jpeg
END:VEVENT
END:VCALENDAR