BEGIN:VCALENDAR
VERSION:2.0
PRODID:-//VetsCAN-SCW - ECPv6.15.20//NONSGML v1.0//EN
CALSCALE:GREGORIAN
METHOD:PUBLISH
X-WR-CALNAME:VetsCAN-SCW
X-ORIGINAL-URL:https://vetscan-wi.org
X-WR-CALDESC:Events for VetsCAN-SCW
REFRESH-INTERVAL;VALUE=DURATION:PT1H
X-Robots-Tag:noindex
X-PUBLISHED-TTL:PT1H
BEGIN:VTIMEZONE
TZID:America/Chicago
BEGIN:DAYLIGHT
TZOFFSETFROM:-0600
TZOFFSETTO:-0500
TZNAME:CDT
DTSTART:20250309T080000
END:DAYLIGHT
BEGIN:STANDARD
TZOFFSETFROM:-0500
TZOFFSETTO:-0600
TZNAME:CST
DTSTART:20251102T070000
END:STANDARD
BEGIN:DAYLIGHT
TZOFFSETFROM:-0600
TZOFFSETTO:-0500
TZNAME:CDT
DTSTART:20260308T080000
END:DAYLIGHT
BEGIN:STANDARD
TZOFFSETFROM:-0500
TZOFFSETTO:-0600
TZNAME:CST
DTSTART:20261101T070000
END:STANDARD
BEGIN:DAYLIGHT
TZOFFSETFROM:-0600
TZOFFSETTO:-0500
TZNAME:CDT
DTSTART:20270314T080000
END:DAYLIGHT
BEGIN:STANDARD
TZOFFSETFROM:-0500
TZOFFSETTO:-0600
TZNAME:CST
DTSTART:20271107T070000
END:STANDARD
BEGIN:DAYLIGHT
TZOFFSETFROM:-0600
TZOFFSETTO:-0500
TZNAME:CDT
DTSTART:20280312T080000
END:DAYLIGHT
BEGIN:STANDARD
TZOFFSETFROM:-0500
TZOFFSETTO:-0600
TZNAME:CST
DTSTART:20281105T070000
END:STANDARD
END:VTIMEZONE
BEGIN:VEVENT
DTSTART;TZID=America/Chicago:20260917T150000
DTEND;TZID=America/Chicago:20260917T163000
DTSTAMP:20260423T070237
CREATED:20260107T190434Z
LAST-MODIFIED:20260401T154533Z
UID:10002335-1789657200-1789662600@vetscan-wi.org
SUMMARY:VetsCAN Engagement Forum (Online)
DESCRIPTION:Join us on Sept. 17 at 3 p.m. for this virtual Community Engagement Forum presented by VetsCAN. \nAdditional information will be posted as the date approaches. 
URL:https://vetscan-wi.org/event/vetscan-engagement-forum-online-9-17-2026/
LOCATION:Online Event
CATEGORIES:Placeholder
ATTACH;FMTTYPE=image/png:https://vetscan-wi.org/wp-content/uploads/2023/09/Screenshot-2024-01-25-at-2.23.04-PM.png
END:VEVENT
BEGIN:VEVENT
DTSTART;TZID=America/Chicago:20261015T150000
DTEND;TZID=America/Chicago:20261015T163000
DTSTAMP:20260423T070237
CREATED:20260331T162021Z
LAST-MODIFIED:20260401T154448Z
UID:10002349-1792076400-1792081800@vetscan-wi.org
SUMMARY:VetsCAN Engagement Forum (Online)
DESCRIPTION:Join us on Oct. 15 at 3 p.m. for this virtual Community Engagement Forum presented by VetsCAN. \nAdditional information will be posted as the date approaches. 
URL:https://vetscan-wi.org/event/vetscan-engagement-forum-online-10-15-2026/
LOCATION:Online Event
CATEGORIES:Placeholder
ATTACH;FMTTYPE=image/png:https://vetscan-wi.org/wp-content/uploads/2023/09/Screenshot-2024-01-25-at-2.23.04-PM.png
END:VEVENT
BEGIN:VEVENT
DTSTART;TZID=America/Chicago:20270121T150000
DTEND;TZID=America/Chicago:20270121T163000
DTSTAMP:20260423T070237
CREATED:20260401T154733Z
LAST-MODIFIED:20260401T154733Z
UID:10002352-1800543600-1800549000@vetscan-wi.org
SUMMARY:VetsCAN Engagement Forum (Online)
DESCRIPTION:Join us on Jan. 21 at 3 p.m. for this virtual Community Engagement Forum presented by VetsCAN. \nAdditional information will be posted as the date approaches. 
URL:https://vetscan-wi.org/event/vetscan-engagement-forum-online-1-21-2027/
LOCATION:Online Event
CATEGORIES:Placeholder
ATTACH;FMTTYPE=image/png:https://vetscan-wi.org/wp-content/uploads/2023/09/Screenshot-2024-01-25-at-2.23.04-PM.png
END:VEVENT
BEGIN:VEVENT
DTSTART;TZID=America/Chicago:20270218T150000
DTEND;TZID=America/Chicago:20270218T163000
DTSTAMP:20260423T070237
CREATED:20260401T154915Z
LAST-MODIFIED:20260401T154915Z
UID:10002353-1802962800-1802968200@vetscan-wi.org
SUMMARY:VetsCAN Engagement Forum (Online)
DESCRIPTION:Join us on Feb. 18 at 3 p.m. for this virtual Community Engagement Forum presented by VetsCAN. \nAdditional information will be posted as the date approaches. 
URL:https://vetscan-wi.org/event/vetscan-engagement-forum-online-2-18-2027/
LOCATION:Online Event
CATEGORIES:Placeholder
ATTACH;FMTTYPE=image/png:https://vetscan-wi.org/wp-content/uploads/2023/09/Screenshot-2024-01-25-at-2.23.04-PM.png
END:VEVENT
BEGIN:VEVENT
DTSTART;TZID=America/Chicago:20270318T150000
DTEND;TZID=America/Chicago:20270318T163000
DTSTAMP:20260423T070237
CREATED:20260401T155134Z
LAST-MODIFIED:20260401T155134Z
UID:10002354-1805382000-1805387400@vetscan-wi.org
SUMMARY:VetsCAN Engagement Forum (Online)
DESCRIPTION:Join us on March 18 at 3 p.m. for this virtual Community Engagement Forum presented by VetsCAN. \nAdditional information will be posted as the date approaches. 
URL:https://vetscan-wi.org/event/vetscan-engagement-forum-online-3-18-2027/
LOCATION:Online Event
CATEGORIES:Placeholder
ATTACH;FMTTYPE=image/png:https://vetscan-wi.org/wp-content/uploads/2023/09/Screenshot-2024-01-25-at-2.23.04-PM.png
END:VEVENT
BEGIN:VEVENT
DTSTART;TZID=America/Chicago:20270415T150000
DTEND;TZID=America/Chicago:20270415T163000
DTSTAMP:20260423T070237
CREATED:20260401T155347Z
LAST-MODIFIED:20260401T155347Z
UID:10002355-1807801200-1807806600@vetscan-wi.org
SUMMARY:VetsCAN Engagement Forum (Online)
DESCRIPTION:Join us on April 15 at 3 p.m. for this virtual Community Engagement Forum presented by VetsCAN. \nAdditional information will be posted as the date approaches. 
URL:https://vetscan-wi.org/event/vetscan-engagement-forum-online-4-15-2027/
LOCATION:Online Event
CATEGORIES:Placeholder
ATTACH;FMTTYPE=image/png:https://vetscan-wi.org/wp-content/uploads/2023/09/Screenshot-2024-01-25-at-2.23.04-PM.png
END:VEVENT
END:VCALENDAR